BEGIN:VCALENDAR
VERSION:2.0
PRODID:-//eventon.com NONSGML v1.0//EN
CALSCALE:GREGORIAN
METHOD:PUBLISH
BEGIN:VEVENT
UID:69e5ea5752ea1
DTSTAMP:20260420T085655Z
DTSTART:20250219T180000Z
DTEND:20250219T200000Z
LOCATION:
SUMMARY:Berufseinstieg in die Unternehmensberatung
DESCRIPTION:Liebe Berufseinsteiger:innen\,  liebe Interessierte\,  wir lade
 n Euch sehr herzlich zur Online-Veranstaltung &#8222;Berufseinstieg in die 
 Beratung&#8220; mit spannenden Insights zu Karrieren in den führenden Unte
 rnehmensberatungen ein. Diese Veranstaltung findet zusammen mit In&amp;Out 
 Consulting statt. In diesem Workshop gehen wir u.a. auf folgende Schwerpunk
 te ein: • Welche Karrierrewege gibt es im Bereich[..]\nhttps://elternpowe
 r-brandenburg.de/events/berufseinstieg-in-die-unternehmensberatung
URL:https://elternpower-brandenburg.de/events/berufseinstieg-in-die-unternehmensberatung
END:VEVENT
END:VCALENDAR