BEGIN:VCALENDAR
VERSION:2.0
PRODID:-//eventon.com NONSGML v1.0//EN
CALSCALE:GREGORIAN
METHOD:PUBLISH
BEGIN:VEVENT
UID:69e5ea80696aa
DTSTAMP:20260420T085736Z
DTSTART:20250414T130000Z
DTEND:20250414T150000Z
LOCATION:Agentur für Arbeit Potsdam Berufsinformationszentrum (BiZ) Horstweg 102-108 (EG) 14478 Potsdam
SUMMARY:Ferien-Workshop “Originell und richtig bewerben!”
DESCRIPTION:Oft hält man sich an allgemeine Vorlagen und lässt der eigene
 n Fantasie nur wenig Raum! Wer es versteht\,  sich auf originelle Weise ins
  rechte Licht zu rücken\,  erhöht seine Bewerberchancen. In unserem Ferie
 n-Workshop verraten wir dir die Basics\,  geben dir wertvolle Tipps. Dabei 
 gehen wir auch auf die Besonderheiten der[..]\nhttps://elternpower-brandenb
 urg.de/events/ferien-workshop-originell-und-richtig-bewerben-10
URL:https://elternpower-brandenburg.de/events/ferien-workshop-originell-und-richtig-bewerben-10
END:VEVENT
END:VCALENDAR