BEGIN:VCALENDAR
VERSION:2.0
PRODID:-//eventon.com NONSGML v1.0//EN
CALSCALE:GREGORIAN
METHOD:PUBLISH
BEGIN:VEVENT
UID:69e8a3f9797f7
DTSTAMP:20260422T103329Z
DTSTART:20250326T170000Z
DTEND:20250326T190000Z
LOCATION:
SUMMARY:„Fit fürs Vorstellungsgespräch“
DESCRIPTION:iebe Berufseinsteiger:innen\,  liebe Interessierte\,  Vorstellu
 ngsgespräche können ganz schön aufregend sein und lassen einen oftmals n
 ervös werden. In diesem Webinar wollen wir darüber sprechen\,  dass es da
 für eigentlich keinen Grund gibt und wie man sich gut auf ein Gespräch vo
 rbereiten kann. Was ist eigentlich mein Ziel im Vorstellungsgespräch? Welc
 he Rolle spielt[..]\nhttps://elternpower-brandenburg.de/events/fit-fuers-vo
 rstellungsgespraech
URL:https://elternpower-brandenburg.de/events/fit-fuers-vorstellungsgespraech
END:VEVENT
END:VCALENDAR