BEGIN:VCALENDAR
VERSION:2.0
PRODID:-//eventon.com NONSGML v1.0//EN
CALSCALE:GREGORIAN
METHOD:PUBLISH
BEGIN:VEVENT
UID:69e731eca0d90
DTSTAMP:20260421T081436Z
DTSTART:20250612T160000Z
DTEND:20250612T173000Z
LOCATION:Agentur für Arbeit Potsdam Berufsinformationszentrum (BiZ) Horstweg 102-108 (EG) 14478 Potsdam
SUMMARY:„Bundesfreiwilligendienst (BFD) – Zeit\,  das Richtige zu tun!“
DESCRIPTION:Der Bundesfreiwilligendienst ist eine Chance sich für die Allg
 emeinheit zu engagieren\,  an Projekten mitzuarbeiten und neues kennenzuler
 nen. Informiert wird über die Dauer\,  Anforderungen\,  Zugangsvoraussetzu
 ngen\,  Einsatzmöglichkeiten\,  Taschengeld\,  Urlaub sowie über Bewerbun
 gsmodalitäten im Inland. Wichtige Hinweise zur Anmeldung: *** Für die Tei
 lnahme ist eine Voranmeldung unter Tel.: 0331/880-2149 oder E-Mail: Potsdam
 .BiZ@arbeitsagentur.de erforderlich.[..]\nhttps://elternpower-brandenburg.d
 e/events/bundesfreiwilligendienst-bfd-zeit-das-richtige-zu-tun-7
URL:https://elternpower-brandenburg.de/events/bundesfreiwilligendienst-bfd-zeit-das-richtige-zu-tun-7
END:VEVENT
END:VCALENDAR