BEGIN:VCALENDAR
VERSION:2.0
PRODID:-//eventon.com NONSGML v1.0//EN
CALSCALE:GREGORIAN
METHOD:PUBLISH
BEGIN:VEVENT
UID:69eb4ee5e01dc
DTSTAMP:20260424T110717Z
DTSTART:20200909T220000Z
DTEND:20200909T220000Z
LOCATION:
SUMMARY:Lehrstellenberatung im Handwerk - Eltern als wichtigste  Ratgeber und Partner
DESCRIPTION:Mit unserer kostenfreien Lehrstellenberatung stehen wir Ihnen u
 nd Ihrem Kind zur Seite\,  wenn es um die zukünftige berufliche Entwicklun
 g Ihres Kindes geht. Unsere Lehrstellenberater sind schon in der Berufsorie
 ntierungsphase für  Sie da und checken z.B. die Bewerbungsunterlagen. Wir
  vermitteln Kontakte zu regionalen Betrieben\,  die ausbilden oder Praktika
  anbieten. &nbsp; Rufen[..]\nhttps://elternpower-brandenburg.de/events/lehr
 stellenberatung-im-handwerk-eltern-als-wichtigste-ratgeber-und-partner-16
URL:https://elternpower-brandenburg.de/events/lehrstellenberatung-im-handwerk-eltern-als-wichtigste-ratgeber-und-partner-16
END:VEVENT
END:VCALENDAR