BEGIN:VCALENDAR
VERSION:2.0
PRODID:-//eventon.com NONSGML v1.0//EN
CALSCALE:GREGORIAN
METHOD:PUBLISH
BEGIN:VEVENT
UID:69e72f9bd2f21
DTSTAMP:20260421T080443Z
DTSTART:20251021T210000Z
DTEND:20251022T010000Z
LOCATION:Berufsinformationszentrum (BiZ) Potsdam  Horstweg 102-108 (EG)
SUMMARY:Ferien-Workshop „Das perfekte Vorstellungsgespräch“
DESCRIPTION:Die richtige Bewerbungsstrategie &#8211; Wie bereite ich mich v
 or? Was ziehe ich an? Mit welchen Fragen muss ich rechnen? Durch praktische
  Übungen bereiten wir Euch auf diese Fragen und Situationen vor! Bemerkung
 : max. 5 Teilnehmer/innen ! WICHTIG: Für die Teilnahme ist eine Voranmeldu
 ng unter Tel.: 0331/880-2149 oder E-Mail: Potsdam.BiZ@arbeitsagentur.de erf
 orderlich![..]\nhttps://elternpower-brandenburg.de/events/ferien-workshop-d
 as-perfekte-vorstellungsgespraech-12
URL:https://elternpower-brandenburg.de/events/ferien-workshop-das-perfekte-vorstellungsgespraech-12
END:VEVENT
END:VCALENDAR