BEGIN:VCALENDAR
VERSION:2.0
PRODID:-//eventon.com NONSGML v1.0//EN
CALSCALE:GREGORIAN
METHOD:PUBLISH
BEGIN:VEVENT
UID:69e8a5280c064
DTSTAMP:20260422T103832Z
DTSTART:20251211T170000Z
DTEND:20251211T183000Z
LOCATION:
SUMMARY:Die digitale ElternAkademie im Schuljahr 2025/2026
DESCRIPTION:Liebe Eltern\,  wir laden Sie herzlich ein und informieren Sie 
 zu allen Themen\,  die wichtig werden\,  wenn Ihre Kinder die Schule beende
 n. Bitte melden Sie sich hier an. &nbsp;\nhttps://elternpower-brandenburg.d
 e/events/die-digitale-elternakademie-im-schuljahr-2025-2026-3
URL:https://elternpower-brandenburg.de/events/die-digitale-elternakademie-im-schuljahr-2025-2026-3
END:VEVENT
END:VCALENDAR