BEGIN:VCALENDAR
VERSION:2.0
PRODID:-//eventon.com NONSGML v1.0//EN
CALSCALE:GREGORIAN
METHOD:PUBLISH
BEGIN:VEVENT
UID:69e5ecbca7ce6
DTSTAMP:20260420T090708Z
DTSTART:20201028T230000Z
DTEND:20201028T230000Z
LOCATION:
SUMMARY:Lehrstellenberatung im Handwerk - Eltern als wichtigste  Ratgeber und Partner\,  HWK Potsdam/Groß Kreutz OT Götz
DESCRIPTION:Mit unserer kostenfreien Lehrstellenberatung stehen wir Ihnen u
 nd Ihrem Kind zur Seite\,  wenn es um die zukünftige berufliche Entwicklun
 g Ihres Kindes geht. Unsere Lehrstellenberater sind schon in der Berufsorie
 ntierungsphase für  Sie da und checken z.B. die Bewerbungsunterlagen. Wir
  vermitteln Kontakte zu regionalen Betrieben\,  die ausbilden oder Praktika
  anbieten. &nbsp; Rufen[..]\nhttps://elternpower-brandenburg.de/events/lehr
 stellenberatung-im-handwerk-eltern-als-wichtigste-ratgeber-und-partner-9
URL:https://elternpower-brandenburg.de/events/lehrstellenberatung-im-handwerk-eltern-als-wichtigste-ratgeber-und-partner-9
END:VEVENT
END:VCALENDAR