BEGIN:VCALENDAR
VERSION:2.0
PRODID:-//eventon.com NONSGML v1.0//EN
CALSCALE:GREGORIAN
METHOD:PUBLISH
BEGIN:VEVENT
UID:69eb374b2205c
DTSTAMP:20260424T092635Z
DTSTART:20251111T173000Z
DTEND:20251111T190000Z
LOCATION:
SUMMARY:Digitaler Elternabend: “Klasse 10 und wie weiter?” – Schulamtsbereich Frankfurt (Oder)
DESCRIPTION:Ihr Kind geht in Frankfurt (Oder)\,  den Landkreisen Barnim\,  
 Oder-Spree\,  Märkisch-Oderland oder der Uckermark zur Schule? Wir laden S
 ie gemeinsam mit unseren Partnern der Agentur für Arbeit\,  Industrie- und
  Handelskammer Ostbrandenburg\,  der Handwerkskammer Frankfurt (Oder) sowie
  der Präsenzstelle der Hochschulen Schwedt zu unserem kostenfreien\,  dig
 italen elternpower Infoabend ein. Hier erfahren Eltern als Berufswahlbegl
 eiter[..]\nhttps://elternpower-brandenburg.de/events/digitaler-elternabend-
 klasse-10-und-wie-weiter-schulamtsbereich-frankfurt-oder-2
URL:https://elternpower-brandenburg.de/events/digitaler-elternabend-klasse-10-und-wie-weiter-schulamtsbereich-frankfurt-oder-2
END:VEVENT
END:VCALENDAR