BEGIN:VCALENDAR
VERSION:2.0
PRODID:-//eventon.com NONSGML v1.0//EN
CALSCALE:GREGORIAN
METHOD:PUBLISH
BEGIN:VEVENT
UID:69e5ea3e103be
DTSTAMP:20260420T085630Z
DTSTART:20200921T220000Z
DTEND:20200921T220000Z
LOCATION:
SUMMARY:Arbeit und Ausbildung für Geflüchtete im Handwerk
DESCRIPTION:Rufen Sie uns an und vereinbaren Sie individuelle Beratungsterm
 ine 033207 34 214  /34 207 &nbsp;\nhttps://elternpower-brandenburg.de/even
 ts/arbeit-und-ausbildung-fuer-gefluechtete-im-handwerk-6
URL:https://elternpower-brandenburg.de/events/arbeit-und-ausbildung-fuer-gefluechtete-im-handwerk-6
END:VEVENT
END:VCALENDAR