BEGIN:VCALENDAR
VERSION:2.0
PRODID:-//eventon.com NONSGML v1.0//EN
CALSCALE:GREGORIAN
METHOD:PUBLISH
BEGIN:VEVENT
UID:69e7325c6b658
DTSTAMP:20260421T081628Z
DTSTART:20251023T090000Z
DTEND:20251023T140000Z
LOCATION:
SUMMARY:Schnuppertag bei der Agentur für Arbeit in Frankfurt Oder
DESCRIPTION:Schnuppertag bei der Agentur für Arbeit in Frankfurt Oder Erha
 lten Sie Einblicke hinter die Kulissen einer großen Bundesbehörde und ent
 decken Sie die Agentur für Arbeit als modernen Dienstleister\,  der nicht 
 nur tolle Einstiegschancen bietet sondern auch mit Blick auf die Zukunft ag
 iert. Erfahren Sie alles rund um das Thema Praktikum\, [..]\nhttps://eltern
 power-brandenburg.de/events/schnuppertag-bei-der-agentur-fuer-arbeit-in-fra
 nkfurt-oder
URL:https://elternpower-brandenburg.de/events/schnuppertag-bei-der-agentur-fuer-arbeit-in-frankfurt-oder
END:VEVENT
END:VCALENDAR