BEGIN:VCALENDAR
VERSION:2.0
PRODID:-//eventon.com NONSGML v1.0//EN
CALSCALE:GREGORIAN
METHOD:PUBLISH
BEGIN:VEVENT
UID:69e73247d83f0
DTSTAMP:20260421T081607Z
DTSTART:20200929T080000Z
DTEND:20200929T103000Z
LOCATION:IHK Bildungszentrum Cottbus Goethestr. 1a\,  03046 Cottbus
SUMMARY:Informationsveranstaltung duales Studium\,  für Betriebe\,  Cottbus
DESCRIPTION:Das duale Studium – Ihr Alleinstellungsmerkmal bei der Gewinn
 ung von Jugendlichen für Ihr Unternehmen. Informationsveranstaltung der IH
 K und der HWK Cottbus in Kooperation mit der BTU Cottbus- Senftenberg https
 ://www.cottbus.ihk.de/alle-veranstaltungen/10455/das-duale-studium-ihr-alle
 instellungsmerkmal-bei-der-gewinnung-von-jugendlichen-fuer-ihr-unternehmen.
 html &nbsp; &nbsp;\nhttps://elternpower-brandenburg.de/events/informationsv
 eranstaltung-duales-studium-fuer-betriebe-cottbus
URL:https://elternpower-brandenburg.de/events/informationsveranstaltung-duales-studium-fuer-betriebe-cottbus
END:VEVENT
END:VCALENDAR