BEGIN:VCALENDAR
VERSION:2.0
PRODID:-//eventon.com NONSGML v1.0//EN
CALSCALE:GREGORIAN
METHOD:PUBLISH
BEGIN:VEVENT
UID:69e5ea6bb2889
DTSTAMP:20260420T085715Z
DTSTART:20201128T140000Z
DTEND:20201128T153000Z
LOCATION:Virtueller Raum
SUMMARY:Kinderfilmuni on Tour
DESCRIPTION:Die Kinderfilmuni Babelsberg – ein medienpädagogisches Proje
 kt der Filmuniversität Babelsberg Konrad Wolf – bietet die Veranstaltung
 en „Kinderfilmuni und Junge Filmuni im Livestream“ nun in einer digital
 en Variante an. In Zusammenarbeit mit der Präsenzstelle der Hochschulen de
 s Landes Brandenburg konnte die Kinderfilmuni Babelsberg in diesem Jahr ihr
  Angebot ausbauen und mit[..]\nhttps://elternpower-brandenburg.de/events/ki
 nderfilmuni-on-tour
URL:https://elternpower-brandenburg.de/events/kinderfilmuni-on-tour
END:VEVENT
END:VCALENDAR