BEGIN:VCALENDAR
VERSION:2.0
PRODID:-//eventon.com NONSGML v1.0//EN
CALSCALE:GREGORIAN
METHOD:PUBLISH
BEGIN:VEVENT
UID:69e8a4c54800d
DTSTAMP:20260422T103653Z
DTSTART:20210211T180000Z
DTEND:20210211T193000Z
LOCATION:Virtueller Raum
SUMMARY:Ausbildung in den 14 Grünen Berufen
DESCRIPTION:NEU: Am 11. Februar 2021 von 19.00 &#8211; 20.30 Uhr führen wi
 r Online-Elternsprechstunden rund um die Ausbildung in den 14 grünen Beruf
 en durch. Gerne beantworten wir Ihre Fragen. Um Voranmeldung unter: barkows
 ki@hvhs-seddinersee.de  wird gebeten.\nhttps://elternpower-brandenburg.de/
 events/ausbildung-in-den-14-gruenen-berufen
URL:https://elternpower-brandenburg.de/events/ausbildung-in-den-14-gruenen-berufen
END:VEVENT
END:VCALENDAR