BEGIN:VCALENDAR
VERSION:2.0
PRODID:-//eventon.com NONSGML v1.0//EN
CALSCALE:GREGORIAN
METHOD:PUBLISH
BEGIN:VEVENT
UID:69e5eef092380
DTSTAMP:20260420T091632Z
DTSTART:20210519T070000Z
DTEND:20210519T110000Z
LOCATION:ÜAZ – Überbetriebliches Ausbildungszentrum der Bauwirtschaft Frankfurt (Oder)\,  Am Erlengrund 20\,  15234 Frankfurt (Oder)
SUMMARY:Lehrberufeschau\,  ÜAZ Frankfurt (Oder)
DESCRIPTION:Vielfalt des Handwerks kennenlernen – Berufsorientierung zum 
 Mitmachen und Ausprobieren! Weitere Details: Flyer_Lehrberufeschau_UAZ_2021
 _ &nbsp;\nhttps://elternpower-brandenburg.de/events/lehrberufeschau-ueaz-fr
 ankfurt-oder
URL:https://elternpower-brandenburg.de/events/lehrberufeschau-ueaz-frankfurt-oder
END:VEVENT
END:VCALENDAR