BEGIN:VCALENDAR
VERSION:2.0
PRODID:-//eventon.com NONSGML v1.0//EN
CALSCALE:GREGORIAN
METHOD:PUBLISH
BEGIN:VEVENT
UID:69e73112f0547
DTSTAMP:20260421T081058Z
DTSTART:20210301T070000Z
DTEND:20210331T160000Z
LOCATION:
SUMMARY:Landesweite Aktions-Hotline 0331 8808800 der Berufsberatung
DESCRIPTION:Für Jugendliche auf der Suche nach einem Ausbildungsplatz gibt
  es eine Informationshotline. Über die zentrale Nummer 0331 8808800 werden
  sie mit einem Berufsberater oder einer Berufsberaterin verbunden. Die Expe
 rten der Arbeitsagentur helfen bei diesen Fragen weiter: Wie kann es nach d
 er Schule weitergehen für mich weitergehen? Welche Ausbildungsberufe gibt 
 es[..]\nhttps://elternpower-brandenburg.de/events/landesweite-aktions-hotli
 ne-0331-8808800-der-berufsberatung-copy
URL:https://elternpower-brandenburg.de/events/landesweite-aktions-hotline-0331-8808800-der-berufsberatung-copy
END:VEVENT
END:VCALENDAR