BEGIN:VCALENDAR
VERSION:2.0
PRODID:-//eventon.com NONSGML v1.0//EN
CALSCALE:GREGORIAN
METHOD:PUBLISH
BEGIN:VEVENT
UID:69eb7c68e737f
DTSTAMP:20260424T142128Z
DTSTART:20210401T060000Z
DTEND:20210409T160000Z
LOCATION:
SUMMARY:Landesweite Aktions-Hotline 0331 8808800 der Berufsberatung
DESCRIPTION:Ab sofort gibt es eine zusätzliche Möglichkeit der schnellen 
 Unterstützung und Beratung bei der Ausbildungsplatzsuche: Unter  der Bran
 denburger Hotline 0331 8808800  sind die Berufsberater*innen der Agenturen
  für Arbeit und der Jugendberufsagenturen für alle Ausbildungsplatzsuchen
 den und ihre Eltern erreichbar &#8211; online\,  per Mail\,  per Videokommu
 nikation und telefonisch.  Infos zum Thema Ausbildung[..]\nhttps://elternp
 ower-brandenburg.de/events/landesweite-aktions-hotline-0331-8808800-der-ber
 ufsberatung-2
URL:https://elternpower-brandenburg.de/events/landesweite-aktions-hotline-0331-8808800-der-berufsberatung-2
END:VEVENT
END:VCALENDAR