BEGIN:VCALENDAR
VERSION:2.0
PRODID:-//eventon.com NONSGML v1.0//EN
CALSCALE:GREGORIAN
METHOD:PUBLISH
BEGIN:VEVENT
UID:69e7317ee69b9
DTSTAMP:20260421T081246Z
DTSTART:20210520T060000Z
DTEND:20210520T093000Z
LOCATION:Gesamtschule Talsand Rosa-Luxemburg-Straße 6 16303 Schwedt/Oder
SUMMARY:Lehrberufeschau\,  Schwedt\,  Gelände Talsandschule
DESCRIPTION:Vielfalt des Handwerks kennenlernen – Berufsorientierung zum 
 Mitmachen und Ausprobieren! Weitere Informationen finden Sie unter Flyer_Le
 hrberufeschau_Schwedt_2021_für_Schüler_20.05.\nhttps://elternpower-brande
 nburg.de/events/lehrberufeschau-schwedt-gelaende-talsandschule
URL:https://elternpower-brandenburg.de/events/lehrberufeschau-schwedt-gelaende-talsandschule
END:VEVENT
END:VCALENDAR