BEGIN:VCALENDAR
VERSION:2.0
PRODID:-//eventon.com NONSGML v1.0//EN
CALSCALE:GREGORIAN
METHOD:PUBLISH
BEGIN:VEVENT
UID:69e8ba11e8f37
DTSTAMP:20260422T120745Z
DTSTART:20210525T060000Z
DTEND:20210525T093000Z
LOCATION:Robinienstraße 2\,  16259 Altranf t\,  Auf dem Gelände der Firma Elektro-Schröder
SUMMARY:Lehrberufeschau\,  Bad Freienwalde
DESCRIPTION:Vielfalt des Handwerks kennenlernen – Berufsorientierung zum 
 Mitmachen und Ausprobieren! weitere Details: Plakat_Lehrberufeschau_d_Handw
 erks_Bad_Freienwalde_2021_25.05. Gelände Elektro-Schröder Altranft/Bad Fr
 eienwalde &nbsp;\nhttps://elternpower-brandenburg.de/events/lehrberufeschau
 -bad-freienwalde-2
URL:https://elternpower-brandenburg.de/events/lehrberufeschau-bad-freienwalde-2
END:VEVENT
END:VCALENDAR