BEGIN:VCALENDAR
VERSION:2.0
PRODID:-//eventon.com NONSGML v1.0//EN
CALSCALE:GREGORIAN
METHOD:PUBLISH
BEGIN:VEVENT
UID:69e5ea8aa2240
DTSTAMP:20260420T085746Z
DTSTART:20210505T133000Z
DTEND:20210505T143000Z
LOCATION:
SUMMARY:Berufs- und Studienorientierung im grünen Bereich:  „Fischen im Trüben? Von wegen… Alles rund um die Ausbildung zum/zur Fischwirt/in"
DESCRIPTION:&nbsp; Anmeldeformular Berufs- und Studienorientierung im grün
 en Bereich &#8211; 2 Schulhalbjahr an E-Mail:  barkowski@hvhs-seddinersee.
 de oder Fax-Nr.: 033205 250019.\nhttps://elternpower-brandenburg.de/events/
 online-seminarreihe-berufs-und-studienorientierung-im-gruenen-bereich-fisch
 en-im-trueben-von-wegen-alles-rund-um-die-ausbildung-zum-zur-fischwirt-in
URL:https://elternpower-brandenburg.de/events/online-seminarreihe-berufs-und-studienorientierung-im-gruenen-bereich-fischen-im-trueben-von-wegen-alles-rund-um-die-ausbildung-zum-zur-fischwirt-in
END:VEVENT
END:VCALENDAR