BEGIN:VCALENDAR
VERSION:2.0
PRODID:-//eventon.com NONSGML v1.0//EN
CALSCALE:GREGORIAN
METHOD:PUBLISH
BEGIN:VEVENT
UID:69e87c362bd96
DTSTAMP:20260422T074350Z
DTSTART:20210318T123000Z
DTEND:20210318T133000Z
LOCATION:
SUMMARY:Woche der Ausbildung - Hotel- und Gastronomie
DESCRIPTION:KOMM IN TEUFELS KÜCHE! Azubis aus dem Hotel- und Gastronomiebe
 reich servieren Jugendlichen exklusive Insights aus ihrem Berufsalltag. ON
 LINE über Browserlink einwählen bit.ly/azubisdehoga Die Teilnahme ist k
 ostenlos. In der Woche der Ausbildung\,  vom 15.03. bis 19.03.2021\,  stell
 en die Agentur für Arbeit Cottbus\,  die Wirtschaftsförderung Cottbus und
  die IHK Cottbus weitere Onlineangebote für Jugendliche bereit.[..]\nhttps
 ://elternpower-brandenburg.de/events/woche-der-ausbildung-hotel-und-gastron
 omie
URL:https://elternpower-brandenburg.de/events/woche-der-ausbildung-hotel-und-gastronomie
END:VEVENT
END:VCALENDAR