BEGIN:VCALENDAR
VERSION:2.0
PRODID:-//eventon.com NONSGML v1.0//EN
CALSCALE:GREGORIAN
METHOD:PUBLISH
BEGIN:VEVENT
UID:69e8942c0906b
DTSTAMP:20260422T092604Z
DTSTART:20220616T140000Z
DTEND:20220616T153000Z
LOCATION:Das Berufsinformationszentrum (BiZ) der Agentur für Arbeit Horstweg 102-108\,  14478 Potsdam
SUMMARY:"Polizei! - Bitte folgen!"
DESCRIPTION:Ein/e Vertreter/in der Polizei des Landes Brandenburg informier
 t dich über die Voraussetzungen und Auswahlverfahren für den mittleren un
 d gehobenen Dienst bei der Polizei. Wir begrüßen Sie gerne wieder persön
 lich in unserem Haus. WICHTIG: Für die Teilnahme ist eine Voranmeldung unt
 er Tel.: 0331/880-2149 oder E-Mail: Potsdam.BiZ@arbeitsagentur.de erforderl
 ich! Weitere Informationen finden Sie[..]\nhttps://elternpower-brandenburg.
 de/events/berufe-bei-der-polizei-mittlerer-und-gehobener-dienst-5
URL:https://elternpower-brandenburg.de/events/berufe-bei-der-polizei-mittlerer-und-gehobener-dienst-5
END:VEVENT
END:VCALENDAR