BEGIN:VCALENDAR
VERSION:2.0
PRODID:-//eventon.com NONSGML v1.0//EN
CALSCALE:GREGORIAN
METHOD:PUBLISH
BEGIN:VEVENT
UID:69e8a559e18ba
DTSTAMP:20260422T103921Z
DTSTART:20220407T140000Z
DTEND:20220407T160000Z
LOCATION:Das Berufsinformationszentrum (BiZ) der Agentur für Arbeit Horstweg 102-108\,  14478 Potsdam
SUMMARY:Der Weg ins Lehramt im Land Brandenburg
DESCRIPTION:Du möchtest Lehrer/in werden? Eine Vertreterin der Zentralen S
 tudienberatung der Universität Potsdam präsentiert die Lehramts-Bachelor-
 Studiengänge. Es gibt hilfreiche Informationen zu den Inhalten der Studien
 gänge\,  Studienverlauf\,  Fristen und Bewerbungsverfahren. Wir bitten Sie
  folgende notwendigen Hygieneregeln einzuhalten: In unserem Hause gilt ab d
 em 09.03.2022 für die Teilnahme an BiZ-Veranstaltungen die 3G-Regel !!![..
 ]\nhttps://elternpower-brandenburg.de/events/der-weg-ins-lehramt-im-land-br
 andenburg-2
URL:https://elternpower-brandenburg.de/events/der-weg-ins-lehramt-im-land-brandenburg-2
END:VEVENT
END:VCALENDAR