BEGIN:VCALENDAR
VERSION:2.0
PRODID:-//eventon.com NONSGML v1.0//EN
CALSCALE:GREGORIAN
METHOD:PUBLISH
BEGIN:VEVENT
UID:69e5eadcc5def
DTSTAMP:20260420T085908Z
DTSTART:20210830T080000Z
DTEND:20210830T150000Z
LOCATION:
SUMMARY:JOBinale 2021
DESCRIPTION:Die JOBinale hat sich in den letzten Jahren als eine der größ
 ten Ausbildungs- und Jobmessen in der Region etabliert. Sie wird von den Jo
 bcentern der Stadt Brandenburg an der Havel\,  des Landkreises Potsdam-Mitt
 elmark\,  der Landeshauptstadt Potsdam sowie der Agentur für Arbeit Potsda
 m organisiert und bringt Ausbildungs- und Arbeitsuchende mit Unternehmen[..
 ]\nhttps://elternpower-brandenburg.de/events/jobinale-2021
URL:https://elternpower-brandenburg.de/events/jobinale-2021
END:VEVENT
END:VCALENDAR