BEGIN:VCALENDAR
VERSION:2.0
PRODID:-//eventon.com NONSGML v1.0//EN
CALSCALE:GREGORIAN
METHOD:PUBLISH
BEGIN:VEVENT
UID:69e62459d8521
DTSTAMP:20260420T130425Z
DTSTART:20210830T220000Z
DTEND:20210830T220000Z
LOCATION:HWK Potsdam\,  Groß Kreutz OT Götz\,  Am Mühlenberg 15
SUMMARY:Arbeit und Ausbildung für Geflüchtete im Handwerk - HWK Potsdam
DESCRIPTION:Rufen Sie uns an und vereinbaren Sie individuelle Beratungsterm
 ine 033207 34 214  /34 207 &nbsp;\nhttps://elternpower-brandenburg.de/even
 ts/arbeit-und-ausbildung-fuer-gefluechtete-im-handwerk-hwk-potsdam-9
URL:https://elternpower-brandenburg.de/events/arbeit-und-ausbildung-fuer-gefluechtete-im-handwerk-hwk-potsdam-9
END:VEVENT
END:VCALENDAR