BEGIN:VCALENDAR
VERSION:2.0
PRODID:-//eventon.com NONSGML v1.0//EN
CALSCALE:GREGORIAN
METHOD:PUBLISH
BEGIN:VEVENT
UID:69e891435dd67
DTSTAMP:20260422T091339Z
DTSTART:20210802T080000Z
DTEND:20210802T103000Z
LOCATION:Neuruppin\,  Schulplatz
SUMMARY:â€žBrandenburg will Dichâ€œ- Bustour - Neuruppin
DESCRIPTION:Eltern\,  GroÃŸeltern\,  Tanten\,  Onkel und groÃŸe Geschwister
  aufgepasst! Vom 02.08. bis 06.08.2021 fÃ¤hrt der â€žBrandenburg will Dichâ
 €œ-Bulli durchs Land. Das Ziel: Jugendliche in der Region von den vielfÃ¤lt
 igen beruflichen Perspektiven zu Ã¼berzeugen. Mit im GepÃ¤ck: jede Menge In
 fos zu Ausbildungsberufen\,  freie AusbildungsplÃ¤tze und kompetente Berufs
 berater*innen. Die Bustour findet im Rahmen[..]\nhttps://elternpower-brande
 nburg.de/events/brandenburg-will-dich-bustour
URL:https://elternpower-brandenburg.de/events/brandenburg-will-dich-bustour
END:VEVENT
END:VCALENDAR