BEGIN:VCALENDAR
VERSION:2.0
PRODID:-//eventon.com NONSGML v1.0//EN
CALSCALE:GREGORIAN
METHOD:PUBLISH
BEGIN:VEVENT
UID:69e5ea7693303
DTSTAMP:20260420T085726Z
DTSTART:20211021T130000Z
DTEND:20211021T143000Z
LOCATION:Agentur für Arbeit Potsdam Berufsinformationszentrum (BiZ) Horstweg 102-108 (EG) 14478 Potsdam
SUMMARY:"Ausbildung und Duales Studium bei der Bundesagentur für Arbeit Potsdam"
DESCRIPTION:Die Bundesagentur für Arbeit ist der größte Dienstleister au
 f dem deutschen Arbeitsmarkt. Wir erbringen umfassende Dienstleistungen fü
 r Bürgerinnen und Bürger\,  Unternehmen und Institutionen. Wir informiere
 n über folgende Ausbildung und dualen Studiengänge: &#8211; Fachangestell
 te/r für Arbeitsmarktdienstleistungen &#8211; Bachelor of Arts &#8211; Arb
 eitsmarktmanagement sowie &#8211; Bachelor of Arts &#8211; Beratung für Bi
 ldung\, [..]\nhttps://elternpower-brandenburg.de/events/ausbildung-und-dual
 es-studium-bei-der-bundesagentur-fuer-arbeit-potsdam
URL:https://elternpower-brandenburg.de/events/ausbildung-und-duales-studium-bei-der-bundesagentur-fuer-arbeit-potsdam
END:VEVENT
END:VCALENDAR