BEGIN:VCALENDAR
VERSION:2.0
PRODID:-//eventon.com NONSGML v1.0//EN
CALSCALE:GREGORIAN
METHOD:PUBLISH
BEGIN:VEVENT
UID:69e8a540e856d
DTSTAMP:20260422T103856Z
DTSTART:20211201T173000Z
DTEND:20211201T190000Z
LOCATION:Virtueller Raum
SUMMARY:Digitaler Elternabend: Wie weiter nach Klasse 10?
DESCRIPTION:Welcher Bildungsweg passt zu meinem Kind? Wie findet es den pas
 senden Ausbildungsbetrieb oder Studienplatz? Wie kann ich mein Kind in der 
 Pandemie am besten unterstützen? In dieser digitalen Informationsveranstal
 tung erhalten Sie Einblicke in unterschiedliche Berufswege und deren Zukunf
 tsaussichten. Zudem bekommen Sie hilfreiche Tipps für die Zeit nach dem Sc
 hulabschluss. Sie[..]\nhttps://elternpower-brandenburg.de/events/digitaler-
 elternabend-wie-weiter-nach-klasse-10
URL:https://elternpower-brandenburg.de/events/digitaler-elternabend-wie-weiter-nach-klasse-10
END:VEVENT
END:VCALENDAR