BEGIN:VCALENDAR
VERSION:2.0
PRODID:-//eventon.com NONSGML v1.0//EN
CALSCALE:GREGORIAN
METHOD:PUBLISH
BEGIN:VEVENT
UID:69e5e9a9dcc24
DTSTAMP:20260420T085401Z
DTSTART:20220131T083000Z
DTEND:20220202T140000Z
LOCATION:Angermünder Bildungswerk e.V. An der MTS 7 16278 Angermünde
SUMMARY:Escape Game
DESCRIPTION:Angermünder Bildungswerk e.V bietet: Vom 31.01. – 02.02.2021
  eine 3-tägige Veranstaltung in Angermünde zur Berufs- und Studienorienti
 erung Die Jugendlichen können sich anhand eines Szenarios in verschiedenen
  Berufsfeldern praktisch ausprobieren Bei einem Online-Auswertungsgespräch
  werden Stärken und Potenziale besprochen und die nächsten Schritte zur B
 erufsausbildung oder zum Studium geplant. Die Veranstaltung ist[..]\nhttps:
 //elternpower-brandenburg.de/events/digitaler-elternabend-wie-weiter-nach-d
 em-abitur-copy
URL:https://elternpower-brandenburg.de/events/digitaler-elternabend-wie-weiter-nach-dem-abitur-copy
END:VEVENT
END:VCALENDAR