BEGIN:VCALENDAR
VERSION:2.0
PRODID:-//eventon.com NONSGML v1.0//EN
CALSCALE:GREGORIAN
METHOD:PUBLISH
BEGIN:VEVENT
UID:69e81837a2d3e
DTSTAMP:20260422T003711Z
DTSTART:20220308T170000Z
DTEND:20220308T183000Z
LOCATION:
SUMMARY:Elterntalk: Ausbildung oder Studium?
DESCRIPTION:Welcher Bildungsweg passt zu meinem Kind? Wie findet es den pas
 senden Ausbildungsbetrieb oder Studienplatz? Wie kann ich mein Kind in der 
 Pandemie am besten unterstützen? In dieser digitalen Talkrunde erhalten Si
 e Einblicke in unterschiedliche Berufswege und deren Zukunftsaussichten. Zu
 dem erhalten Sie hilfreiche Tipps für die Zeit nach dem Schulabschluss. Si
 e[..]\nhttps://elternpower-brandenburg.de/events/elterntalk-ausbildung-oder
 -studium-11
URL:https://elternpower-brandenburg.de/events/elterntalk-ausbildung-oder-studium-11
END:VEVENT
END:VCALENDAR