BEGIN:VCALENDAR
VERSION:2.0
PRODID:-//eventon.com NONSGML v1.0//EN
CALSCALE:GREGORIAN
METHOD:PUBLISH
BEGIN:VEVENT
UID:69e5eee313ed0
DTSTAMP:20260420T091619Z
DTSTART:20220520T070000Z
DTEND:20220520T110000Z
LOCATION:
SUMMARY:Die Hochschulinfotage
DESCRIPTION:Modern // regional // wirtschaftsnah 2.600 Studierende\,  67 Pr
 ofessorinnen und Professoren und immer neue Forschungsthemen in den Fachber
 eichen Informatik und Medien\,  Technik sowie Wirtschaft: Die Technische Ho
 chschule Brandenburg ist eine junge und moderne Hochschule mit ausgezeichne
 ten Studienbedingungen vor den Toren Berlins. Als Partner für Lehre und Fo
 rschung\,  Fachkräftesicherung und Technologietransfer[..]\nhttps://eltern
 power-brandenburg.de/events/die-hochschulinfotage-3
URL:https://elternpower-brandenburg.de/events/die-hochschulinfotage-3
END:VEVENT
END:VCALENDAR