BEGIN:VCALENDAR
VERSION:2.0
PRODID:-//eventon.com NONSGML v1.0//EN
CALSCALE:GREGORIAN
METHOD:PUBLISH
BEGIN:VEVENT
UID:69e890f6357d0
DTSTAMP:20260422T091222Z
DTSTART:20220520T220000Z
DTEND:20220520T220000Z
LOCATION:
SUMMARY:Die Hochschulinfotage
DESCRIPTION:Die Technische Hochschule Wildau ist eine moderne\,  zukunftsor
 ientierte und praxisverbundene Campushochschule südlich von Berlin. Weiter
 e Infos und Flyer findest du hier &nbsp;\nhttps://elternpower-brandenburg.d
 e/events/die-hochschulinfotage
URL:https://elternpower-brandenburg.de/events/die-hochschulinfotage
END:VEVENT
END:VCALENDAR