BEGIN:VCALENDAR
VERSION:2.0
PRODID:-//eventon.com NONSGML v1.0//EN
CALSCALE:GREGORIAN
METHOD:PUBLISH
BEGIN:VEVENT
UID:69e8a51e02fa8
DTSTAMP:20260422T103822Z
DTSTART:20220314T120000Z
DTEND:20220314T130000Z
LOCATION:
SUMMARY:Dein Weg in die Ausbildung - von der Bewerbung bis zur Vertragsunterzeichnung
DESCRIPTION:Passgenau zur Lehrstelle! Das Team der Passgenauen Besetzung un
 terstützt auf dem Weg in die Ausbildung und stellt seinen Service vor. Wel
 che Interessen und Stärken liegen vor? Sind die Bewerbungsunterlagen gut? 
 Welches Unternehmen wäre passend für Schnupperpraktikum oder Lehrstelle? 
 Schülerinnen und Schüler können unser Team in Live Videochats eine Stund
 e lang[..]\nhttps://elternpower-brandenburg.de/events/dein-weg-in-die-ausbi
 ldung-von-der-bewerbung-bis-zur-vertragsunterzeichnung-9
URL:https://elternpower-brandenburg.de/events/dein-weg-in-die-ausbildung-von-der-bewerbung-bis-zur-vertragsunterzeichnung-9
END:VEVENT
END:VCALENDAR