BEGIN:VCALENDAR
VERSION:2.0
PRODID:-//eventon.com NONSGML v1.0//EN
CALSCALE:GREGORIAN
METHOD:PUBLISH
BEGIN:VEVENT
UID:69e5eeda9f4d4
DTSTAMP:20260420T091610Z
DTSTART:20220315T090000Z
DTEND:20220315T110000Z
LOCATION:
SUMMARY:Dein Weg in die Ausbildung - von der Bewerbung bis zur Vertragsunterzeichnung
DESCRIPTION:Lehrstelle suchen\,  finden und Bewerbung klar machen In der bu
 ndesweiten IHK-Lehrstellenbörse können Angebote nach Regionen gefiltert w
 erden. Ob Berufe-Steckbrief oder Talente-Check\,  die Plattform bietet hilf
 reiche Tipps. Zudem erklären wir\,  wie man Bewerbungsunterlagen richtig v
 orbereitet. Wir erklären die Nutzung der Lehrstellenbörse. Einfach reinkl
 icken\,  zuhören und und Fragen stellen! Weitere Informationen finden[..]\
 nhttps://elternpower-brandenburg.de/events/dein-weg-in-die-ausbildung-von-d
 er-bewerbung-bis-zur-vertragsunterzeichnung-8
URL:https://elternpower-brandenburg.de/events/dein-weg-in-die-ausbildung-von-der-bewerbung-bis-zur-vertragsunterzeichnung-8
END:VEVENT
END:VCALENDAR