BEGIN:VCALENDAR
VERSION:2.0
PRODID:-//eventon.com NONSGML v1.0//EN
CALSCALE:GREGORIAN
METHOD:PUBLISH
BEGIN:VEVENT
UID:69e5ea1450ac8
DTSTAMP:20260420T085548Z
DTSTART:20210319T090000Z
DTEND:20210319T143000Z
LOCATION:Paulus Praetorius Gymnasium Bernau Lohmühlenstraße 26
SUMMARY:23. Bernauer Ausbildungs- und Studienbörse
DESCRIPTION:Die Bernauer Ausbildungs- und Studienbörse in Bernau bei Berli
 n bietet Schülern\,  Eltern und Interessierten ein breites Angebot an Auss
 tellern. Etwa 130 Aussteller\,  darunter Universitäten\,  Hochschulen\,  g
 roße Betriebe mit Berufsakademien\,  Staatsbetriebe\,  regionale Ausbildun
 gsbetriebe\,  Mittelständler\,  Gesundheitseinrichtungen\,  Banken\,  Vers
 icherungen\,  Verbände\,  Handel und Handwerkbringen ihre Auszubildenden m
 it und berichten über ihre ersten Berufserfahrungen. Alle[..]\nhttps://elt
 ernpower-brandenburg.de/events/23-bernauer-ausbildungs-und-studienboerse
URL:https://elternpower-brandenburg.de/events/23-bernauer-ausbildungs-und-studienboerse
END:VEVENT
END:VCALENDAR