BEGIN:VCALENDAR
VERSION:2.0
PRODID:-//eventon.com NONSGML v1.0//EN
CALSCALE:GREGORIAN
METHOD:PUBLISH
BEGIN:VEVENT
UID:69e730fc3442c
DTSTAMP:20260421T081036Z
DTSTART:20201006T060000Z
DTEND:20201009T130000Z
LOCATION:Standort Brandenburg Mehrzweckhalle Geltow\,  14548 Schwielowsee
SUMMARY:JOB NAVI PM für Oberschulen und Förderschulen mit dem Förderschwerpunkt Lernen\,  OT Geltow\,  Schwielowsee
DESCRIPTION:JOB NAVI PM ist ein Parcours zur Berufs- und Studienorientierun
 g für Schüler und Schülerinnen der 8. und 9. Klassen der weiterführende
 n Schulen des Landkreises Potsdam-Mittelmark und wird jährlich umgesetzt. 
 &nbsp; http://www.wirtschaft.pm/standort-bad-belzig/schule-wirtschaft/job-n
 avi-pm/projektbeschreibung/\nhttps://elternpower-brandenburg.de/events/job-
 navi-pm-fuer-oberschulen-und-foerderschulen-mit-dem-foerderschwerpunkt-lern
 en
URL:https://elternpower-brandenburg.de/events/job-navi-pm-fuer-oberschulen-und-foerderschulen-mit-dem-foerderschwerpunkt-lernen
END:VEVENT
END:VCALENDAR