BEGIN:VCALENDAR
VERSION:2.0
PRODID:-//eventon.com NONSGML v1.0//EN
CALSCALE:GREGORIAN
METHOD:PUBLISH
BEGIN:VEVENT
UID:69eb643a72d1b
DTSTAMP:20260424T123818Z
DTSTART:20201019T110000Z
DTEND:20201019T140000Z
LOCATION:Das Berufsinformationszentrum (BiZ) der Agentur für Arbeit Horstweg 102-108\,  14478 Potsdam
SUMMARY:Ferien Workshop „Originell  und richtig bewerben!“\,  Potsdam
DESCRIPTION:Ferien Workshop „Originell und richtig bewerben!“\,  Potsda
 m\nhttps://elternpower-brandenburg.de/events/ferien-workshop-originell-und-
 richtig-bewerben
URL:https://elternpower-brandenburg.de/events/ferien-workshop-originell-und-richtig-bewerben
END:VEVENT
END:VCALENDAR