BEGIN:VCALENDAR
VERSION:2.0
PRODID:-//eventon.com NONSGML v1.0//EN
CALSCALE:GREGORIAN
METHOD:PUBLISH
BEGIN:VEVENT
UID:69eb03cee73e9
DTSTAMP:20260424T054654Z
DTSTART:20201007T130000Z
DTEND:20201007T160000Z
LOCATION:
SUMMARY:Online Seminar „Finde DEINE Ausbildung im Handwerk“
DESCRIPTION:&nbsp; Was ist wichtig für eine Ausbildung? Welche Karriereweg
 e habe ich im Handwerk? Lieber erstmal ein Praktikum machen? Was ist wichti
 g für eine Ausbildung? Welche Karrierewege habe ich im Handwerk?  Diese u
 nd viele andere Fragen stellen sich Schulabgängerinnen und Schulabgänger 
 sowie deren Eltern. Die Handwerkskammer Potsdam berät auch in Corona-Zeite
 n[..]\nhttps://elternpower-brandenburg.de/events/online-seminar-finde-deine
 -ausbildung-im-handwerk-4
URL:https://elternpower-brandenburg.de/events/online-seminar-finde-deine-ausbildung-im-handwerk-4
END:VEVENT
END:VCALENDAR