BEGIN:VCALENDAR
VERSION:2.0
PRODID:-//eventon.com NONSGML v1.0//EN
CALSCALE:GREGORIAN
METHOD:PUBLISH
BEGIN:VEVENT
UID:69e8905decaa5
DTSTAMP:20260422T090949Z
DTSTART:20220317T130000Z
DTEND:20220317T150000Z
LOCATION:
SUMMARY:Nutze die Chance in Brandenburg 2022
DESCRIPTION:Du bist auf der Suche nach einer spannenden und attraktiven Aus
 bildungsstelle für den Herbst 2022 und bist interessiert dich im Raum Have
 lland oder im Bereich Oberhavel zu bewerben? Auch aus Berlin sind die Ausbi
 ldungsstellen gut erreichbar und bieten eine zusätzliche Chance etwas Pass
 endes zu finden! Wir haben anlässlich der Woche[..]\nhttps://elternpower-b
 randenburg.de/events/nutze-die-chance-in-brandenburg-2022
URL:https://elternpower-brandenburg.de/events/nutze-die-chance-in-brandenburg-2022
END:VEVENT
END:VCALENDAR