BEGIN:VCALENDAR
VERSION:2.0
PRODID:-//eventon.com NONSGML v1.0//EN
CALSCALE:GREGORIAN
METHOD:PUBLISH
BEGIN:VEVENT
UID:69e5ea4d89691
DTSTAMP:20260420T085645Z
DTSTART:20220420T110000Z
DTEND:20220420T133000Z
LOCATION:Das Berufsinformationszentrum (BiZ) der Agentur für Arbeit Horstweg 102-108\,  14478 Potsdam
SUMMARY:Ferien-Workshop "Originell und richtig bewerben!"
DESCRIPTION:Oft hält man sich an allgemeine Vorlagen und lässt der eigene
 n Fantasie nur wenig Raum! Wer es versteht\,  sich auf originelle Weise ins
  rechte Licht zu rücken\,  erhöht seine Bewerberchancen. In unserem Ferie
 n-Workshop verraten wir dir die Basics\,  geben dir wertvolle Tipps. Wir bi
 tten Sie folgende notwendigen Hygieneregeln einzuhalten: In[..]\nhttps://el
 ternpower-brandenburg.de/events/ferien-workshop-originell-und-richtig-bewer
 ben-3
URL:https://elternpower-brandenburg.de/events/ferien-workshop-originell-und-richtig-bewerben-3
END:VEVENT
END:VCALENDAR