BEGIN:VCALENDAR
VERSION:2.0
PRODID:-//eventon.com NONSGML v1.0//EN
CALSCALE:GREGORIAN
METHOD:PUBLISH
BEGIN:VEVENT
UID:69e9c67f7a358
DTSTAMP:20260423T071303Z
DTSTART:20220510T110000Z
DTEND:20220510T150000Z
LOCATION:Bad belzig\,  vor dem Rathaus
SUMMARY:IHK CouchTour 2022\,  Bad Belzig
DESCRIPTION:nun ist es wieder soweit: Unsere mobile IHK Potsdam-Couch geht 
 wieder auf Tour\,  um auf aktuelle Ausbildungsplätze für das Jahr 2022 au
 fmerksam zu machen. Wir werden wieder vom 09.05. – 12.05. vier Stationen 
 ansteuern und freuen uns persönlich vor Ort auf offene Ausbildungsplätze 
 hinzuweisen und zu beraten. Gemeinsam mit den[..]\nhttps://elternpower-bran
 denburg.de/events/ihk-couchtour-2022-2
URL:https://elternpower-brandenburg.de/events/ihk-couchtour-2022-2
END:VEVENT
END:VCALENDAR