BEGIN:VCALENDAR
VERSION:2.0
PRODID:-//eventon.com NONSGML v1.0//EN
CALSCALE:GREGORIAN
METHOD:PUBLISH
BEGIN:VEVENT
UID:69e72fe36f031
DTSTAMP:20260421T080555Z
DTSTART:20220505T070000Z
DTEND:20220505T090000Z
LOCATION:
SUMMARY:Tag der Logistik Brandenburg
DESCRIPTION:Wir laden Schülerinnen und Schüler herzlich dazu ein\,  die V
 ielfalt der Brandenburger Logistikwelt kennenzulernen. Engagierte Azubis un
 d junge Fachkräfte u.a. der Unternehmen Nagel Group\,  REWE\,  UNITAX\,  E
 DEKA\,  SPITZKE\,  Colossus Logistics\,  DM Drogerie Markt\,  Kaufland\,  H
 avelländische Eisenbahn AG oder OTLG stellen im Rahmen einer Onlinekonfere
 nz von 09:00 bis 11:00 Uhr ihre[..]\nhttps://elternpower-brandenburg.de/eve
 nts/tag-der-logistik-brandenburg
URL:https://elternpower-brandenburg.de/events/tag-der-logistik-brandenburg
END:VEVENT
END:VCALENDAR