BEGIN:VCALENDAR
VERSION:2.0
PRODID:-//eventon.com NONSGML v1.0//EN
CALSCALE:GREGORIAN
METHOD:PUBLISH
BEGIN:VEVENT
UID:69e8baa1003a7
DTSTAMP:20260422T121009Z
DTSTART:20220511T110000Z
DTEND:20220511T150000Z
LOCATION:Senftenberg\,  Markplatz
SUMMARY:IHK CouchTour 2022\,  Senftenberg
DESCRIPTION:Noch auf der Suche nach der passenden Ausbildung? Wir bitten Pl
 atz zu nehmen\,  denn wir sind im Mai auf CouchTour! Die Brandenburger Indu
 strie- und Handelskammern Cottbus\,  Potsdam und Ostbrandenburg sind unterw
 egs in Sachen Berufsorientierung und Last-Minute-Beratung. Schüler und Elt
 ern auf der Suche nach dem passenden Ausbildungsplatz sind für ein persön
 liches[..]\nhttps://elternpower-brandenburg.de/events/ihk-couchtour-2022-se
 nftenberg
URL:https://elternpower-brandenburg.de/events/ihk-couchtour-2022-senftenberg
END:VEVENT
END:VCALENDAR