BEGIN:VCALENDAR
VERSION:2.0
PRODID:-//eventon.com NONSGML v1.0//EN
CALSCALE:GREGORIAN
METHOD:PUBLISH
BEGIN:VEVENT
UID:69e890aa4c6f7
DTSTAMP:20260422T091106Z
DTSTART:20220614T060000Z
DTEND:20220614T120000Z
LOCATION:Rahn Education im Stift Neuzelle (Freie Oberschule und Freies Gymnasium) Stiftsplatz 7\,  15898 Neuzelle
SUMMARY:Lehrberufeschau des Handwerks  in Neuzelle
DESCRIPTION:Vielfalt des Handwerks kennenlernen – Berufsorientierung zum 
 Mitmachen und Ausprobieren! Es kommen viele Unternehmen aus dem Handwerk de
 r Region und stellen ihren Beruf vor! Mit praktischen Übungen können die 
 Schüler und Schülerinnen aus den 9.\,  10.\,  11. und 12. Jahrgangsstufen
  gleich ausprobieren\,  ob ihnen der Beruf liegt. Eine ideale Möglichkeit\
 , [..]\nhttps://elternpower-brandenburg.de/events/lehrberufeschau-des-handw
 erks-in-neuzelle
URL:https://elternpower-brandenburg.de/events/lehrberufeschau-des-handwerks-in-neuzelle
END:VEVENT
END:VCALENDAR