BEGIN:VCALENDAR
VERSION:2.0
PRODID:-//eventon.com NONSGML v1.0//EN
CALSCALE:GREGORIAN
METHOD:PUBLISH
BEGIN:VEVENT
UID:69e8a4dc7ef2c
DTSTAMP:20260422T103716Z
DTSTART:20220716T013000Z
DTEND:20220716T040000Z
LOCATION:Luckenwalde\,  Breite Straße 12 -13\,  Volksbühne
SUMMARY:Auf die Ausbildungsplätze\,  fertig\,  los!
DESCRIPTION:Mit diesem Motto fährt der rote Bulli in die zweite Runde. Nac
 h der erfolgreichen Bustour im vergangenen Jahr kommt er auch 2022 an zehn 
 verschiedenen Standorten mit einem Bus voller Infos zu interessanten Berufs
 bereichen und Ausbildungsmöglichkeiten vorbei. Mit an Bord  ist eine Foto
 box\,  Sonnenschirme und jede Menge Infomaterial.  Die Bustour[..]\nhttps:
 //elternpower-brandenburg.de/events/auf-die-ausbildungsplaetze-fertig-los-7
URL:https://elternpower-brandenburg.de/events/auf-die-ausbildungsplaetze-fertig-los-7
END:VEVENT
END:VCALENDAR