BEGIN:VCALENDAR
VERSION:2.0
PRODID:-//eventon.com NONSGML v1.0//EN
CALSCALE:GREGORIAN
METHOD:PUBLISH
BEGIN:VEVENT
UID:69e6395860762
DTSTAMP:20260420T143400Z
DTSTART:20220713T123000Z
DTEND:20220713T150000Z
LOCATION:Königs Wusterhausen\,  Bahnhofstraße\,  Brunnenplatz
SUMMARY:Auf die Ausbildungsplätze\,  fertig\,  los!
DESCRIPTION:Mit diesem Motto fährt der rote Bulli in die zweite Runde. Nac
 h der erfolgreichen Bustour im vergangenen Jahr kommt er auch 2022 an zehn 
 verschiedenen Standorten mit einem Bus voller Infos zu interessanten Berufs
 bereichen und Ausbildungsmöglichkeiten vorbei. Mit an Bord  ist eine Foto
 box\,  Sonnenschirme und jede Menge Infomaterial.  Die Bustour[..]\nhttps:
 //elternpower-brandenburg.de/events/auf-die-ausbildungsplaetze-fertig-los-6
URL:https://elternpower-brandenburg.de/events/auf-die-ausbildungsplaetze-fertig-los-6
END:VEVENT
END:VCALENDAR