BEGIN:VCALENDAR
VERSION:2.0
PRODID:-//eventon.com NONSGML v1.0//EN
CALSCALE:GREGORIAN
METHOD:PUBLISH
BEGIN:VEVENT
UID:69e730f222469
DTSTAMP:20260421T081026Z
DTSTART:20220901T020000Z
DTEND:20220901T030000Z
LOCATION:
SUMMARY:"Überblick über die 14 Grünen Berufe"
DESCRIPTION:Wir führen unsere bereits zur Tradition gewordene Online-Semin
 arreihe mit spannenden Themen. Mit diesem Online-Angebot geben wir Ihnen Hi
 ntergrundinformationen über die Vielfältigkeit der 14 Grünen Berufe. Wir
  freuen uns auf eine Anmeldung zu den Themen\,  die Sie interessieren. Mit 
 der Anmeldung erhalten Sie dann auch den Login für zoom zum Seminar.[..]\n
 https://elternpower-brandenburg.de/events/ueberblick-ueber-die-14-gruenen-b
 erufe
URL:https://elternpower-brandenburg.de/events/ueberblick-ueber-die-14-gruenen-berufe
END:VEVENT
END:VCALENDAR