BEGIN:VCALENDAR
VERSION:2.0
PRODID:-//eventon.com NONSGML v1.0//EN
CALSCALE:GREGORIAN
METHOD:PUBLISH
BEGIN:VEVENT
UID:69e89f6967dc3
DTSTAMP:20260422T101401Z
DTSTART:20221124T210000Z
DTEND:20221125T041000Z
LOCATION:BiZ Eberswalde Bergerstr. 30 16225 Eberswalde
SUMMARY:"Berufe in Uniform" mit Bundespolizei\,  Zoll\,  Bundeswehr und Landespolizei
DESCRIPTION:Karrierechancen im mittleren und gehobenen Dienst werden von Ei
 nstellungsberater/innen vorgestellt. Fragen zum Auswahlverfahren\,  Zugangs
 voraussetzungen und Möglichkeiten des späteren Einsatzes werden kompetent
  beantwortet. Kommt vorbei\,  lasst Euch beraten und stellt Eure Fragen. Ei
 ne vorherige Anmeldung ist nicht notwendig! Weitere Informationen finden Si
 e hier.\nhttps://elternpower-brandenburg.de/events/berufe-in-uniform-mit-bu
 ndespolizei-zoll-bundeswehr-und-landespolizei
URL:https://elternpower-brandenburg.de/events/berufe-in-uniform-mit-bundespolizei-zoll-bundeswehr-und-landespolizei
END:VEVENT
END:VCALENDAR