BEGIN:VCALENDAR
VERSION:2.0
PRODID:-//eventon.com NONSGML v1.0//EN
CALSCALE:GREGORIAN
METHOD:PUBLISH
BEGIN:VEVENT
UID:69ea8fd68cd82
DTSTAMP:20260423T213206Z
DTSTART:20221119T210000Z
DTEND:20221120T030000Z
LOCATION:Messehalle Frankfurt (Oder) Messering 3 15234 Frankfurt (Oder)
SUMMARY:Mitmachmesse auf dem Frankfurter Messegelände
DESCRIPTION:100 Ausbildungsbetriebe und Aussteller bieten die Möglichkeit\
 ,  sich über Ausbildungs- und Studienmöglichkeiten in der Region Ostbrand
 enburg zu informieren. Jeder kann sich hier praktisch ausprobieren! Eltern 
 &amp; Großeltern sind auch herzlich willkommen! Weitere Informationen find
 enSie hier.\nhttps://elternpower-brandenburg.de/events/mitmachmesse-auf-dem
 -frankfurter-messegelaende
URL:https://elternpower-brandenburg.de/events/mitmachmesse-auf-dem-frankfurter-messegelaende
END:VEVENT
END:VCALENDAR