BEGIN:VCALENDAR
VERSION:2.0
PRODID:-//eventon.com NONSGML v1.0//EN
CALSCALE:GREGORIAN
METHOD:PUBLISH
BEGIN:VEVENT
UID:69eceacf740bf
DTSTAMP:20260425T162447Z
DTSTART:20230224T050000Z
DTEND:20230224T063000Z
LOCATION:Virtueller Raum
SUMMARY:elternpowertalk 2023:  Abitur und wie weiter?
DESCRIPTION:Welche Ausbildung\,  welches Studium passt zu meinem Kind? Wie 
 findet es den richtigen Ausbildungsbetrieb? Wie kann ich mein Kind dabei am
  besten unterstützen? In dieser digitalen Talkrunde erhalten Sie Einblicke
  in unterschiedliche Berufswege sowie deren Zukunftsaussichten und können 
 Ihre persönlichen Fragen an die Expertinnen und Experten der Industrie- un
 d Handelskammer\, [..]\nhttps://elternpower-brandenburg.de/events/elternpow
 ertalk-2023-abitur-und-wie-weiter-3
URL:https://elternpower-brandenburg.de/events/elternpowertalk-2023-abitur-und-wie-weiter-3
END:VEVENT
END:VCALENDAR